BEGIN:VCALENDAR
VERSION:2.0
PRODID:-//Tukios.com/
BEGIN:VEVENT
UID:51635532-b9de-4d6f-a13d-2fd719069423@www.orlandodonsantefh.com
DTSTAMP:20260426T022119Z
DTSTART:20260501T140000Z
DTEND:20260501T150000Z
SUMMARY:Mass of Christian Burial
DESCRIPTION:
URL:https://www.orlandodonsantefh.com/obituaries/thomas-shaffer
LOCATION: 29850 Euclid Avenue  Wickliffe OH 44092
GEO:41.6114627;-81.4660859
END:VEVENT
END:VCALENDAR