BEGIN:VCALENDAR
VERSION:2.0
PRODID:-//Tukios.com/
BEGIN:VEVENT
UID:66da99d1-f569-4479-a802-65d0a239db36@www.orlandodonsantefh.com
DTSTAMP:20260426T021917Z
DTSTART:20260430T220000Z
DTEND:20260501T000000Z
SUMMARY:Visitation
DESCRIPTION:
URL:https://www.orlandodonsantefh.com/obituaries/thomas-shaffer
LOCATION: 29550 Euclid Ave  Wickliffe OH 44092
GEO:41.6090272;-81.4699742
END:VEVENT
END:VCALENDAR